BEGIN:VCALENDAR
VERSION:2.0
PRODID:spatie/icalendar-generator
DESCRIPTION:Events from OTERO\, NM
X-WR-CALDESC:Events from OTERO\, NM
REFRESH-INTERVAL;VALUE=DURATION:PT1440M
X-PUBLISHED-TTL:PT1440M
BEGIN:VTIMEZONE
TZID:America/Denver
BEGIN:STANDARD
DTSTART:20251102T020000Z
TZOFFSETFROM:-0600
TZOFFSETTO:-0700
END:STANDARD
BEGIN:DAYLIGHT
DTSTART:20260308T020000Z
TZOFFSETFROM:-0700
TZOFFSETTO:-0600
END:DAYLIGHT
BEGIN:STANDARD
DTSTART:20261101T020000Z
TZOFFSETFROM:-0600
TZOFFSETTO:-0700
END:STANDARD
END:VTIMEZONE
BEGIN:VTIMEZONE
TZID:UTC
BEGIN:STANDARD
DTSTART:20250725T103505Z
TZOFFSETFROM:+0000
TZOFFSETTO:+0000
END:STANDARD
END:VTIMEZONE
BEGIN:VEVENT
UID:1625-581
DTSTAMP:20260421T103505Z
SUMMARY:Youth Mental Health: Trends\, State-Level Strategies &amp;amp\; the Rol
 e of Digital Technology
LOCATION:
ORGANIZER;CN=Otero Manager:MAILTO:annaageeight+otero@nmsu.edu
DTSTART;TZID=America/Denver:20260423T120000
DTEND;TZID=America/Denver:20260423T130000
X-ALT-DESC;FMTTYPE=TEXT/HTML:Youth mental health disorders have been on the
  rise in recent years\, with nearly 1 in 3 adolescents (ages 12 to 17) exp
 eriencing a mental\, emotional\, developmental\, or behavioral health cond
 ition. There has also been growing attention to the potential effects of s
 ocial media\, artificial intelligence (AI)\, and other digital technologie
 s on youth mental health.&amp;hellip\;
CATEGORIES:Virtual
URL;VALUE=URI:https://www.100nm.org/otero/mc-events/youth-mental-health-tre
 nds-state-level-strategies-the-role-of-digital-technology/
METHOD:PUBLISH
END:VEVENT
BEGIN:VEVENT
UID:1600-568
DTSTAMP:20260421T103505Z
SUMMARY:Survivor Support Group
LOCATION:C.O.P.E 909 S Florida Avenue  Alamogordo New Mexico 88310
ORGANIZER;CN=Otero Manager:MAILTO:annaageeight+otero@nmsu.edu
DTSTART;TZID=America/Denver:20260423T123000
DTEND;TZID=America/Denver:20260423T133000
X-ALT-DESC;FMTTYPE=TEXT/HTML:
CATEGORIES:Support Groups
URL;VALUE=URI:https://www.100nm.org/otero/mc-events/survivor-support-group-
 4/
METHOD:PUBLISH
END:VEVENT
BEGIN:VEVENT
UID:1511-543
DTSTAMP:20260421T103505Z
SUMMARY:Cloudcroft PreK &amp;amp\; Kindergarten Registration
LOCATION:Cloudcroft United Methodist Church 50 Chipmunk Ave  Cloudcroft New
  Mexico 88317
ORGANIZER;CN=Otero Manager:MAILTO:annaageeight+otero@nmsu.edu
DTSTART;TZID=America/Denver:20260423T080000
DTEND;TZID=America/Denver:20260423T120000
X-ALT-DESC;FMTTYPE=TEXT/HTML:
CATEGORIES:Kids Calendar
URL;VALUE=URI:https://www.100nm.org/otero/mc-events/cloudcroft-prek-kinderg
 arten-registration/
METHOD:PUBLISH
END:VEVENT
BEGIN:VEVENT
UID:1623-580
DTSTAMP:20260421T103505Z
SUMMARY:Raising Funds and Raising Voices for Foster Children
LOCATION:Pizza 9 3199 North White Sands Blvd.  Alamogordo New Mexico 88310
ORGANIZER;CN=Otero Manager:MAILTO:annaageeight+otero@nmsu.edu
DTSTART;TZID=America/Denver:20260429T100000
DTEND;TZID=America/Denver:20260429T210000
X-ALT-DESC;FMTTYPE=TEXT/HTML:
CATEGORIES:Events,  Support Groups
URL;VALUE=URI:https://www.100nm.org/otero/mc-events/raising-funds-and-raisi
 ng-voices-for-foster-children/
METHOD:PUBLISH
END:VEVENT
BEGIN:VEVENT
UID:1622-579
DTSTAMP:20260421T103505Z
SUMMARY:FREE Kids &amp;amp\; Adult Workshops
LOCATION:Otero Artspace 1118 Indiana Avenue  Alamogordo New Mexico 88310
ORGANIZER;CN=Otero Manager:MAILTO:annaageeight+otero@nmsu.edu
DTSTART;TZID=America/Denver:20260411T100000
DTEND;TZID=America/Denver:20260411T150000
X-ALT-DESC;FMTTYPE=TEXT/HTML:
CATEGORIES:Events
URL;VALUE=URI:https://www.100nm.org/otero/mc-events/free-kids-adult-worksho
 ps/
METHOD:PUBLISH
END:VEVENT
BEGIN:VEVENT
UID:1603-554
DTSTAMP:20260421T103505Z
SUMMARY:Golden Hearts Community Health Fair
LOCATION:White Sands Mall 3199 N White Sands Blvd  Alamogordo New Mexico 88
 310
ORGANIZER;CN=Otero Manager:MAILTO:annaageeight+otero@nmsu.edu
DTSTART;TZID=America/Denver:20260411T110000
DTEND;TZID=America/Denver:20260411T140000
X-ALT-DESC;FMTTYPE=TEXT/HTML:
CATEGORIES:Events
URL;VALUE=URI:https://www.100nm.org/otero/mc-events/golden-hearts-community
 -health-fair/
METHOD:PUBLISH
END:VEVENT
BEGIN:VEVENT
UID:1621-578
DTSTAMP:20260421T103505Z
SUMMARY:4th Annual Southern New Mexico Conference on Child Abuse and Neglec
 t
LOCATION:Inn of the Mountain Gods 287 Carrizo Canyon Road  Mescalero New Me
 xico 88340
ORGANIZER;CN=Otero Manager:MAILTO:annaageeight+otero@nmsu.edu
DTSTART;TZID=America/Denver;VALUE=DATE:20260413
DTEND;TZID=America/Denver;VALUE=DATE:20260417
X-ALT-DESC;FMTTYPE=TEXT/HTML:Kid’s Inc. Child Advocacy Center (CAC) is ex
 cited and proud to host the 4th Annual Southern New Mexico Conference on C
 hild Abuse and Neglect at the Inn of the Mountain Gods in Mescalero\, NM\,
  from April 13–16\, 2026. This conference provides practical and interac
 tive instruction to those fighting crimes against children and helping the
 m heal.&amp;hellip\;
CATEGORIES:Events
URL;VALUE=URI:https://www.100nm.org/otero/mc-events/4th-annual-southern-new
 -mexico-conference-on-child-abuse-and-neglect/
METHOD:PUBLISH
END:VEVENT
BEGIN:VEVENT
UID:1620-577
DTSTAMP:20260421T103505Z
SUMMARY:Walk For Mental Health Awareness
LOCATION:
ORGANIZER;CN=Otero Manager:MAILTO:annaageeight+otero@nmsu.edu
DTSTART;TZID=America/Denver:20260502T090000
DTEND;TZID=America/Denver:20260502T100000
X-ALT-DESC;FMTTYPE=TEXT/HTML:
CATEGORIES:Events
URL;VALUE=URI:https://www.100nm.org/otero/mc-events/walk-for-mental-health-
 awareness/
METHOD:PUBLISH
END:VEVENT
BEGIN:VEVENT
UID:1538-551
DTSTAMP:20260421T103505Z
SUMMARY:Intro to Makerspaces &amp;amp\; Renewable Energy
LOCATION:
ORGANIZER;CN=Otero Manager:MAILTO:annaageeight+otero@nmsu.edu
DTSTART;TZID=America/Denver:20260502T093000
DTEND;TZID=America/Denver:20260502T140000
X-ALT-DESC;FMTTYPE=TEXT/HTML:
CATEGORIES:Virtual
URL;VALUE=URI:https://www.100nm.org/otero/mc-events/intro-to-makerspaces-re
 newable-energy/
METHOD:PUBLISH
END:VEVENT
BEGIN:VEVENT
UID:1619-576
DTSTAMP:20260421T103505Z
SUMMARY:National Crime's Victim Week Resource Fair &amp;amp\; Remembrance Event
LOCATION:
ORGANIZER;CN=Otero Manager:MAILTO:annaageeight+otero@nmsu.edu
DTSTART;TZID=America/Denver:20260424T153000
DTEND;TZID=America/Denver:20260424T183000
X-ALT-DESC;FMTTYPE=TEXT/HTML:
CATEGORIES:Events
URL;VALUE=URI:https://www.100nm.org/otero/mc-events/national-crimes-victim-
 week-resource-fair-remembrance-event/
METHOD:PUBLISH
END:VEVENT
BEGIN:VEVENT
UID:1618-575
DTSTAMP:20260421T103505Z
SUMMARY:Park Party For Peace
LOCATION:Washington Park 100 Washington Avenue  Alamogordo New Mexico 88310
ORGANIZER;CN=Otero Manager:MAILTO:annaageeight+otero@nmsu.edu
DTSTART;TZID=America/Denver:20260409T180000
DTEND;TZID=America/Denver:20260409T213000
X-ALT-DESC;FMTTYPE=TEXT/HTML:
CATEGORIES:Events
URL;VALUE=URI:https://www.100nm.org/otero/mc-events/park-party-for-peace/
METHOD:PUBLISH
END:VEVENT
BEGIN:VEVENT
UID:1599-567
DTSTAMP:20260421T103505Z
SUMMARY:Survivor Support Group
LOCATION:C.O.P.E 909 S Florida Avenue  Alamogordo New Mexico 88310
ORGANIZER;CN=Otero Manager:MAILTO:annaageeight+otero@nmsu.edu
DTSTART;TZID=America/Denver:20260409T123000
DTEND;TZID=America/Denver:20260409T133000
X-ALT-DESC;FMTTYPE=TEXT/HTML:
CATEGORIES:Support Groups
URL;VALUE=URI:https://www.100nm.org/otero/mc-events/survivor-support-group-
 3/
METHOD:PUBLISH
END:VEVENT
BEGIN:VEVENT
UID:1617-574
DTSTAMP:20260421T103505Z
SUMMARY:Family Health Fair &amp;amp\; Car Seat Clinic
LOCATION:Otero County Fairgrounds 401 Fairgrounds Road  Alamogordo New Mexi
 co 88310
ORGANIZER;CN=Otero Manager:MAILTO:annaageeight+otero@nmsu.edu
DTSTART;TZID=America/Denver:20260613T100000
DTEND;TZID=America/Denver:20260613T130000
X-ALT-DESC;FMTTYPE=TEXT/HTML:
CATEGORIES:Events
URL;VALUE=URI:https://www.100nm.org/otero/mc-events/family-health-fair-car-
 seat-clinic/
METHOD:PUBLISH
END:VEVENT
BEGIN:VEVENT
UID:1624-573
DTSTAMP:20260421T103505Z
SUMMARY:Dream Higher: First Annual Kite Festival
LOCATION:Trinity Healing Labyrinth Park 7740 North Highway 54/70  Alamogord
 o New Mexico 88310
ORGANIZER;CN=Otero Manager:MAILTO:annaageeight+otero@nmsu.edu
DTSTART;TZID=America/Denver:20260425T100000
DTEND;TZID=America/Denver:20260425T170000
X-ALT-DESC;FMTTYPE=TEXT/HTML:
CATEGORIES:Kids Calendar
URL;VALUE=URI:https://www.100nm.org/otero/mc-events/dream-higher-first-annu
 al-kite-festival/
METHOD:PUBLISH
END:VEVENT
BEGIN:VEVENT
UID:1596-564
DTSTAMP:20260421T103505Z
SUMMARY:THRIVE: 5K Colorfest &amp;amp\; Fun Run
LOCATION:Griggs Sports Complex 3000 N Florida Avenue  Alamogordo New Mexico
  88310
ORGANIZER;CN=Otero Manager:MAILTO:annaageeight+otero@nmsu.edu
DTSTART;TZID=America/Denver:20260425T080000
DTEND;TZID=America/Denver:20260425T090000
X-ALT-DESC;FMTTYPE=TEXT/HTML:Get ready to move\, laugh\, and get covered in
  color at the THRIVE in Southern New Mexico 5K Colorfest Fun Run! This vib
 rant 5K is all about fun\, fitness\, and community-welcoming runners\, wal
 kers\, families\, and friends of all ages and abilities!
CATEGORIES:Community
URL;VALUE=URI:https://www.100nm.org/otero/mc-events/thrive-5k-colorfest-fun
 -run/
METHOD:PUBLISH
END:VEVENT
BEGIN:VEVENT
UID:1595-563
DTSTAMP:20260421T103505Z
SUMMARY:Untitled Event
LOCATION:
ORGANIZER;CN=Otero Manager:MAILTO:annaageeight+otero@nmsu.edu
DTSTART;TZID=America/Denver:20260425T100000
DTEND;TZID=America/Denver:20260425T110000
X-ALT-DESC;FMTTYPE=TEXT/HTML:
CATEGORIES:100% Otero
URL;VALUE=URI:https://www.100nm.org/otero/mc-events/untitled-event/
METHOD:PUBLISH
END:VEVENT
BEGIN:VEVENT
UID:1594-562
DTSTAMP:20260421T103505Z
SUMMARY:Carnival of Dreams
LOCATION:Brilliant Bees Learning Academy 516 McCombs Road  Chaparral New Me
 xico 88081
ORGANIZER;CN=Otero Manager:MAILTO:annaageeight+otero@nmsu.edu
DTSTART;TZID=America/Denver:20260425T100000
DTEND;TZID=America/Denver:20260425T150000
X-ALT-DESC;FMTTYPE=TEXT/HTML:
CATEGORIES:Kids Calendar
URL;VALUE=URI:https://www.100nm.org/otero/mc-events/carnival-of-dreams/
METHOD:PUBLISH
END:VEVENT
BEGIN:VEVENT
UID:1545-558
DTSTAMP:20260421T103505Z
SUMMARY:Dia De Los Ninos Celebration
LOCATION:Delores C. Wright Community Center 400 E. Lisa Drive  Chaparral  N
 ew Mexico 88081
ORGANIZER;CN=Otero Manager:MAILTO:annaageeight+otero@nmsu.edu
DTSTART;TZID=America/Denver:20260425T090000
DTEND;TZID=America/Denver:20260425T143000
X-ALT-DESC;FMTTYPE=TEXT/HTML:
CATEGORIES:Events
URL;VALUE=URI:https://www.100nm.org/otero/mc-events/dia-de-los-ninos-celebr
 ation/
METHOD:PUBLISH
END:VEVENT
BEGIN:VEVENT
UID:1542-555
DTSTAMP:20260421T103505Z
SUMMARY:The Counseling Center Child Abuse Awareness Event
LOCATION:Desert Suds Car Wash 2700 North White Sands Blvd  Alamogordo New M
 exico 88310
ORGANIZER;CN=Otero Manager:MAILTO:annaageeight+otero@nmsu.edu
DTSTART;TZID=America/Denver:20260425T190000
DTEND;TZID=America/Denver:20260425T200000
X-ALT-DESC;FMTTYPE=TEXT/HTML:
CATEGORIES:Community
URL;VALUE=URI:https://www.100nm.org/otero/mc-events/the-counseling-center-c
 hild-abuse-awareness-event/
METHOD:PUBLISH
END:VEVENT
BEGIN:VEVENT
UID:1605-572
DTSTAMP:20260421T103505Z
SUMMARY:Hiring Heroes Employment Event
LOCATION:The Tays Event Center 2400 North Scenic Drive  Alamogordo New Mexi
 co 88310
ORGANIZER;CN=Otero Manager:MAILTO:annaageeight+otero@nmsu.edu
DTSTART;TZID=America/Denver:20260415T100000
DTEND;TZID=America/Denver:20260415T140000
X-ALT-DESC;FMTTYPE=TEXT/HTML:
CATEGORIES:Events
URL;VALUE=URI:https://www.100nm.org/otero/mc-events/hiring-heroes-employmen
 t-event/
METHOD:PUBLISH
END:VEVENT
BEGIN:VEVENT
UID:1597-565
DTSTAMP:20260421T103505Z
SUMMARY:Survivor Support Group
LOCATION:C.O.P.E 909 S Florida Avenue  Alamogordo New Mexico 88310
ORGANIZER;CN=Otero Manager:MAILTO:annaageeight+otero@nmsu.edu
DTSTART;TZID=America/Denver:20260312T123000
DTEND;TZID=America/Denver:20260312T133000
X-ALT-DESC;FMTTYPE=TEXT/HTML:
CATEGORIES:Support Groups
URL;VALUE=URI:https://www.100nm.org/otero/mc-events/survivor-support-group/
METHOD:PUBLISH
END:VEVENT
BEGIN:VEVENT
UID:1598-566
DTSTAMP:20260421T103505Z
SUMMARY:Survivor Support Group
LOCATION:C.O.P.E 909 S Florida Avenue  Alamogordo New Mexico 88310
ORGANIZER;CN=Otero Manager:MAILTO:annaageeight+otero@nmsu.edu
DTSTART;TZID=America/Denver:20260326T123000
DTEND;TZID=America/Denver:20260326T133000
X-ALT-DESC;FMTTYPE=TEXT/HTML:
CATEGORIES:Support Groups
URL;VALUE=URI:https://www.100nm.org/otero/mc-events/survivor-support-group-
 2/
METHOD:PUBLISH
END:VEVENT
BEGIN:VEVENT
UID:1601-569
DTSTAMP:20260421T103505Z
SUMMARY:Survivor Support Group
LOCATION:C.O.P.E 909 S Florida Avenue  Alamogordo New Mexico 88310
ORGANIZER;CN=Otero Manager:MAILTO:annaageeight+otero@nmsu.edu
DTSTART;TZID=America/Denver:20260507T123000
DTEND;TZID=America/Denver:20260507T133000
X-ALT-DESC;FMTTYPE=TEXT/HTML:
CATEGORIES:Support Groups
URL;VALUE=URI:https://www.100nm.org/otero/mc-events/survivor-support-group-
 5/
METHOD:PUBLISH
END:VEVENT
BEGIN:VEVENT
UID:1539-552
DTSTAMP:20260421T103505Z
SUMMARY:Bubble Bubble Workshop
LOCATION:
ORGANIZER;CN=Otero Manager:MAILTO:annaageeight+otero@nmsu.edu
DTSTART;TZID=America/Denver:20260507T140000
DTEND;TZID=America/Denver:20260507T160000
X-ALT-DESC;FMTTYPE=TEXT/HTML:
CATEGORIES:Virtual
URL;VALUE=URI:https://www.100nm.org/otero/mc-events/bubble-bubble-workshop-
 2/
METHOD:PUBLISH
END:VEVENT
BEGIN:VEVENT
UID:1602-570
DTSTAMP:20260421T103505Z
SUMMARY:Survivor Support Group
LOCATION:C.O.P.E 909 S Florida Avenue  Alamogordo New Mexico 88310
ORGANIZER;CN=Otero Manager:MAILTO:annaageeight+otero@nmsu.edu
DTSTART;TZID=America/Denver:20260521T123000
DTEND;TZID=America/Denver:20260521T133000
X-ALT-DESC;FMTTYPE=TEXT/HTML:
CATEGORIES:Support Groups
URL;VALUE=URI:https://www.100nm.org/otero/mc-events/survivor-support-group-
 6/
METHOD:PUBLISH
END:VEVENT
BEGIN:VEVENT
UID:1548-561
DTSTAMP:20260421T103505Z
SUMMARY:BHRIA - Stakeholder Regional Plan Meeting
LOCATION:
ORGANIZER;CN=Otero Manager:MAILTO:annaageeight+otero@nmsu.edu
RRULE:FREQ=MONTHLY;BYDAY=3TH;UNTIL=20291231T000000Z
DTSTART;TZID=America/Denver:20260319T133000
DTEND;TZID=America/Denver:20260319T143000
X-ALT-DESC;FMTTYPE=TEXT/HTML:Region 12 has completed the SIM workshop and i
 s now entering the BHRIA-required Regional Planning Phase\, during which b
 ehavioral health stakeholders must collaboratively develop a regional plan
  that addresses service gaps\, outlines implementation timelines and perfo
 rmance measures\, and strengthens coordination across the region. The fina
 l plan must be approved by Otero County\, Lincoln County\, and&amp;hellip\;
CATEGORIES:Virtual
URL;VALUE=URI:https://www.100nm.org/otero/mc-events/bhria-stakeholder-regio
 nal-plan-meeting-3/?mc_id=1548
METHOD:PUBLISH
END:VEVENT
BEGIN:VEVENT
UID:1536-549
DTSTAMP:20260421T103505Z
SUMMARY:Seeds &amp;amp\; Soil Workshop
LOCATION:
ORGANIZER;CN=Otero Manager:MAILTO:annaageeight+otero@nmsu.edu
DTSTART;TZID=America/Denver:20260319T100000
DTEND;TZID=America/Denver:20260319T120000
X-ALT-DESC;FMTTYPE=TEXT/HTML:
CATEGORIES:Virtual
URL;VALUE=URI:https://www.100nm.org/otero/mc-events/seeds-soil-workshop-2/
METHOD:PUBLISH
END:VEVENT
BEGIN:VEVENT
UID:1547-560
DTSTAMP:20260421T103505Z
SUMMARY:BHRIA - Stakeholder Regional Plan Meeting
LOCATION:
ORGANIZER;CN=Otero Manager:MAILTO:annaageeight+otero@nmsu.edu
DTSTART;TZID=America/Denver:20260402T133000
DTEND;TZID=America/Denver:20260402T143000
X-ALT-DESC;FMTTYPE=TEXT/HTML:Region 12 has completed the SIM workshop and i
 s now entering the BHRIA-required Regional Planning Phase\, during which b
 ehavioral health stakeholders must collaboratively develop a regional plan
  that addresses service gaps\, outlines implementation timelines and perfo
 rmance measures\, and strengthens coordination across the region. The fina
 l plan must be approved by Otero County\, Lincoln County\, and&amp;hellip\;
CATEGORIES:Virtual
URL;VALUE=URI:https://www.100nm.org/otero/mc-events/bhria-stakeholder-regio
 nal-plan-meeting-2/
METHOD:PUBLISH
END:VEVENT
BEGIN:VEVENT
UID:1546-559
DTSTAMP:20260421T103505Z
SUMMARY:BHRIA - Stakeholder Regional Plan Meeting
LOCATION:
ORGANIZER;CN=Otero Manager:MAILTO:annaageeight+otero@nmsu.edu
DTSTART;TZID=America/Denver:20260305T133000
DTEND;TZID=America/Denver:20260305T143000
X-ALT-DESC;FMTTYPE=TEXT/HTML:Region 12 has completed the SIM workshop and i
 s now entering the BHRIA-required Regional Planning Phase\, during which b
 ehavioral health stakeholders must collaboratively develop a regional plan
  that addresses service gaps\, outlines implementation timelines and perfo
 rmance measures\, and strengthens coordination across the region. The fina
 l plan must be approved by Otero County\, Lincoln County\, and&amp;hellip\;
CATEGORIES:Virtual
URL;VALUE=URI:https://www.100nm.org/otero/mc-events/bhria-stakeholder-regio
 nal-plan-meeting/
METHOD:PUBLISH
END:VEVENT
BEGIN:VEVENT
UID:1543-556
DTSTAMP:20260421T103505Z
SUMMARY:ZTrans Community Input Meeting
LOCATION:Zia Therapy Center  900 First Street  Alamogordo New Mexico 88310
ORGANIZER;CN=Otero Manager:MAILTO:annaageeight+otero@nmsu.edu
DTSTART;TZID=America/Denver:20260316T100000
DTEND;TZID=America/Denver:20260316T110000
X-ALT-DESC;FMTTYPE=TEXT/HTML:
CATEGORIES:Community
URL;VALUE=URI:https://www.100nm.org/otero/mc-events/ztrans-community-input-
 meeting/
METHOD:PUBLISH
END:VEVENT
BEGIN:VEVENT
UID:1544-557
DTSTAMP:20260421T103505Z
SUMMARY:ZTrans Community Input Meeting
LOCATION:Zia Therapy Center  900 First Street  Alamogordo New Mexico 88310
ORGANIZER;CN=Otero Manager:MAILTO:annaageeight+otero@nmsu.edu
DTSTART;TZID=America/Denver:20260316T140000
DTEND;TZID=America/Denver:20260316T150000
X-ALT-DESC;FMTTYPE=TEXT/HTML:
CATEGORIES:Community
URL;VALUE=URI:https://www.100nm.org/otero/mc-events/ztrans-community-input-
 meeting-2/
METHOD:PUBLISH
END:VEVENT
BEGIN:VEVENT
UID:1535-548
DTSTAMP:20260421T103505Z
SUMMARY:Rolling\, Rolling\, Rolling: A virtual workshop for educators\, lib
 rarians\, and out-of-school time providers
LOCATION:
ORGANIZER;CN=Otero Manager:MAILTO:annaageeight+otero@nmsu.edu
DTSTART;TZID=America/Denver:20260316T180000
DTEND;TZID=America/Denver:20260316T200000
X-ALT-DESC;FMTTYPE=TEXT/HTML:
CATEGORIES:Virtual
URL;VALUE=URI:https://www.100nm.org/otero/mc-events/rolling-rolling-rolling
 -a-virtual-workshop-for-educators-librarians-and-out-of-school-time-provid
 ers/
METHOD:PUBLISH
END:VEVENT
BEGIN:VEVENT
UID:1540-553
DTSTAMP:20260421T103505Z
SUMMARY:Community Baby Shower
LOCATION:Mommy &amp;amp\; Me Closet 2617 North White Sands Blvd Suite A Alamogo
 rdo New Mexico 88310
ORGANIZER;CN=Otero Manager:MAILTO:annaageeight+otero@nmsu.edu
DTSTART;TZID=America/Denver:20260315T110000
DTEND;TZID=America/Denver:20260315T140000
X-ALT-DESC;FMTTYPE=TEXT/HTML:
CATEGORIES:Community
URL;VALUE=URI:https://www.100nm.org/otero/mc-events/community-baby-shower/
METHOD:PUBLISH
END:VEVENT
BEGIN:VEVENT
UID:1537-550
DTSTAMP:20260421T103505Z
SUMMARY:Bubble Bubble Workshop
LOCATION:
ORGANIZER;CN=Otero Manager:MAILTO:annaageeight+otero@nmsu.edu
DTSTART;TZID=America/Denver:20260416T100000
DTEND;TZID=America/Denver:20260416T120000
X-ALT-DESC;FMTTYPE=TEXT/HTML:
CATEGORIES:Virtual
URL;VALUE=URI:https://www.100nm.org/otero/mc-events/bubble-bubble-workshop/
METHOD:PUBLISH
END:VEVENT
BEGIN:VEVENT
UID:1534-547
DTSTAMP:20260421T103506Z
SUMMARY:Once Upon a Time: STEM in Faily Tales
LOCATION:
ORGANIZER;CN=Otero Manager:MAILTO:annaageeight+otero@nmsu.edu
DTSTART;TZID=America/Denver:20260310T100000
DTEND;TZID=America/Denver:20260310T120000
X-ALT-DESC;FMTTYPE=TEXT/HTML:
CATEGORIES:Virtual
URL;VALUE=URI:https://www.100nm.org/otero/mc-events/once-upon-a-time-stem-i
 n-faily-tales/
METHOD:PUBLISH
END:VEVENT
BEGIN:VEVENT
UID:1533-546
DTSTAMP:20260421T103506Z
SUMMARY:Seeds &amp;amp\; Soil Workshop
LOCATION:
ORGANIZER;CN=Otero Manager:MAILTO:annaageeight+otero@nmsu.edu
DTSTART;TZID=America/Denver:20260226T140000
DTEND;TZID=America/Denver:20260226T160000
X-ALT-DESC;FMTTYPE=TEXT/HTML:
CATEGORIES:Virtual
URL;VALUE=URI:https://www.100nm.org/otero/mc-events/seeds-soil-workshop/
METHOD:PUBLISH
END:VEVENT
BEGIN:VEVENT
UID:1523-545
DTSTAMP:20260421T103506Z
SUMMARY:Virtual Resource Meeting For Expecting Families
LOCATION:
ORGANIZER;CN=Otero Manager:MAILTO:annaageeight+otero@nmsu.edu
RRULE:FREQ=MONTHLY;BYDAY=3WE;UNTIL=20261216T000000Z
DTSTART;TZID=America/Denver:20260218T140000
DTEND;TZID=America/Denver:20260218T150000
X-ALT-DESC;FMTTYPE=TEXT/HTML:
CATEGORIES:Virtual
URL;VALUE=URI:https://www.100nm.org/otero/mc-events/virtual-resource-meetin
 g-for-expecting-families-5/?mc_id=1523
METHOD:PUBLISH
END:VEVENT
BEGIN:VEVENT
UID:1606-544
DTSTAMP:20260421T103506Z
SUMMARY:Otero County Early Childhood Coalition Meeting
LOCATION:NMSU-A ProTech Building\, Room 106 2400 North Scenic Drive Alamogo
 rdo New Mexico 88310
ORGANIZER;CN=Otero Manager:MAILTO:annaageeight+otero@nmsu.edu
RRULE:FREQ=MONTHLY;BYDAY=3MO;UNTIL=20261221T000000Z
DTSTART;TZID=America/Denver:20260216T120000
DTEND;TZID=America/Denver:20260216T133000
X-ALT-DESC;FMTTYPE=TEXT/HTML:
CATEGORIES:100% Otero
URL;VALUE=URI:https://www.100nm.org/otero/mc-events/otero-county-early-chil
 dhood-coalition-meeting-2/?mc_id=1606
METHOD:PUBLISH
END:VEVENT
BEGIN:VEVENT
UID:1522-542
DTSTAMP:20260421T103506Z
SUMMARY:Tularosa PreK &amp;amp\; Kindergarten Registration
LOCATION:Tularosa Elementary School  ​404 1st Street  Tularosa New Mexico
  88352
ORGANIZER;CN=Otero Manager:MAILTO:annaageeight+otero@nmsu.edu
DTSTART;TZID=America/Denver:20260430T130000
DTEND;TZID=America/Denver:20260430T170000
X-ALT-DESC;FMTTYPE=TEXT/HTML:
CATEGORIES:Kids Calendar
URL;VALUE=URI:https://www.100nm.org/otero/mc-events/tularosa-prek-kindergar
 ten-registration/
METHOD:PUBLISH
END:VEVENT
BEGIN:VEVENT
UID:1509-541
DTSTAMP:20260421T103506Z
SUMMARY:Child Find
LOCATION:Alamogordo Public Schools 1200 North Florida Avenue Building C Ala
 mogordo New Mexico 88310
ORGANIZER;CN=Otero Manager:MAILTO:annaageeight+otero@nmsu.edu
DTSTART;TZID=America/Denver:20260212T090000
DTEND;TZID=America/Denver:20260212T120000
X-ALT-DESC;FMTTYPE=TEXT/HTML:
CATEGORIES:Kids Calendar
URL;VALUE=URI:https://www.100nm.org/otero/mc-events/child-find-2/
METHOD:PUBLISH
END:VEVENT
BEGIN:VEVENT
UID:1508-540
DTSTAMP:20260421T103506Z
SUMMARY:Thinking Through ADHD For Kids
LOCATION:Delores C. Wright Community Center 400 E. Lisa Drive  Chaparral  N
 ew Mexico 88081
ORGANIZER;CN=Otero Manager:MAILTO:annaageeight+otero@nmsu.edu
DTSTART;TZID=America/Denver:20260213T180000
DTEND;TZID=America/Denver:20260213T200000
X-ALT-DESC;FMTTYPE=TEXT/HTML:
CATEGORIES:Training
URL;VALUE=URI:https://www.100nm.org/otero/mc-events/thinking-through-adhd-f
 or-kids/
METHOD:PUBLISH
END:VEVENT
BEGIN:VEVENT
UID:1507-539
DTSTAMP:20260421T103506Z
SUMMARY:Raising Funds &amp;amp\; Voices For Foster Children
LOCATION:Pizza 9 3199 North White Sands Blvd.  Alamogordo New Mexico 88310
ORGANIZER;CN=Otero Manager:MAILTO:annaageeight+otero@nmsu.edu
DTSTART;TZID=America/Denver;VALUE=DATE:20260225
DTEND;TZID=America/Denver;VALUE=DATE:20260226
X-ALT-DESC;FMTTYPE=TEXT/HTML:
CATEGORIES:Events
URL;VALUE=URI:https://www.100nm.org/otero/mc-events/raising-funds-voices-fo
 r-foster-children/
METHOD:PUBLISH
END:VEVENT
BEGIN:VEVENT
UID:1506-538
DTSTAMP:20260421T103506Z
SUMMARY:Early Childhood Educator &amp;amp\; Parent Caregiver  Workshop
LOCATION:CHRISTUS Southern New Mexico Conference Center 2669 Scenic Drive  
 Alamogordo New Mexico 88310
ORGANIZER;CN=Otero Manager:MAILTO:annaageeight+otero@nmsu.edu
DTSTART;TZID=America/Denver:20260214T090000
DTEND;TZID=America/Denver:20260214T150000
X-ALT-DESC;FMTTYPE=TEXT/HTML:
CATEGORIES:Training,  100% Otero
URL;VALUE=URI:https://www.100nm.org/otero/mc-events/early-childhood-educato
 r-parent-caregiver-workshop/
METHOD:PUBLISH
END:VEVENT
BEGIN:VEVENT
UID:1505-537
DTSTAMP:20260421T103506Z
SUMMARY:Coffee\, Conversation\, and Changing a Child's Story
LOCATION:For Otero Grounds 801 East 10th Street Suite A Alamogordo New Mexi
 co 88310
ORGANIZER;CN=Otero Manager:MAILTO:annaageeight+otero@nmsu.edu
DTSTART;TZID=America/Denver:20260211T173000
DTEND;TZID=America/Denver:20260211T183000
X-ALT-DESC;FMTTYPE=TEXT/HTML:Serviceheart CASA is hosting an event: Coffee\
 , Conversation\, and Changing a Child’s Story at For Otero Grounds on 2/
 11/26 from 5:30PM to 6:30 PM. Hoping to recruit support for kids in foster
  care.
CATEGORIES:Events
URL;VALUE=URI:https://www.100nm.org/otero/mc-events/coffee-conversation-and
 -changing-a-childs-story/
METHOD:PUBLISH
END:VEVENT
END:VCALENDAR